BEGIN:VCALENDAR
VERSION:2.0
PRODID:https://www.industryarena.com
METHOD:PUBLISH
X-APPLE-CALENDAR-COLOR:#00406f
X-OUTLOOK-COLOR:#00406f
X-FUNAMBOL-COLOR:#00406f
CALSCALE:GREGORIAN
X-MICROSOFT-CALSCALE:GREGORIAN
X-WR-CALNAME:IndustryArena GmbH
X-WR-CALDESC:Business Netzwerk der Fertigungsindustrie
BEGIN:VEVENT
UID:INDUSTRYARENAEVENT16172
DTSTART:20190929T220000Z
SEQUENCE:0
TRANSP:OPAQUE
DTEND:20191002T220000Z
LOCATION:Mississauga\, Ontario
SUMMARY:CMTS 2019
CLASS:PUBLIC
DESCRIPTION:Along with CAMWorks\, we will also be showcasing recently launc
 hed\, CAMWorks ShopFloor which provides state-of-the-art digital tools for
  machinists to leverage digital machining data in part models\, reducing e
 rrors and improving communication between CNC programmers and shop floor m
 achinists. 
DTSTAMP:20260425T010423Z
END:VEVENT
END:VCALENDAR