BEGIN:VCALENDAR
VERSION:2.0
PRODID:https://www.industryarena.com
METHOD:PUBLISH
X-APPLE-CALENDAR-COLOR:#00406f
X-OUTLOOK-COLOR:#00406f
X-FUNAMBOL-COLOR:#00406f
CALSCALE:GREGORIAN
X-MICROSOFT-CALSCALE:GREGORIAN
X-WR-CALNAME:IndustryArena GmbH
X-WR-CALDESC:Business Netzwerk der Fertigungsindustrie
BEGIN:VEVENT
UID:INDUSTRYARENAEVENT16225
DTSTART:20210323T080000Z
SEQUENCE:0
TRANSP:OPAQUE
DTEND:20210326T160000Z
LOCATION:Düsseldorf
SUMMARY:METAV digital
CLASS:PUBLIC
DESCRIPTION:Wir sind Aussteller auf der METAV 2020 in Düsseldorf. Wir sind
  gespannt auf interessante und erfolgreiche Gespräche\, sowohl national w
 ie international. Besuchen Sie uns an unserem Stand E98 in Halle 16
DTSTAMP:20260422T033936Z
END:VEVENT
END:VCALENDAR