BEGIN:VCALENDAR
VERSION:2.0
PRODID:https://www.industryarena.com
METHOD:PUBLISH
X-APPLE-CALENDAR-COLOR:#00406f
X-OUTLOOK-COLOR:#00406f
X-FUNAMBOL-COLOR:#00406f
CALSCALE:GREGORIAN
X-MICROSOFT-CALSCALE:GREGORIAN
X-WR-CALNAME:IndustryArena GmbH
X-WR-CALDESC:Business Netzwerk der Fertigungsindustrie
BEGIN:VEVENT
UID:INDUSTRYARENAEVENT16405
DTSTART:20191205T230000Z
SEQUENCE:0
TRANSP:OPAQUE
LOCATION:Arnsberg
SUMMARY:Deutschland Roadshow der BLM GROUP
CLASS:PUBLIC
DESCRIPTION:Die bisherige Resonanz auf die Roadshow der BLM GROUP Deutschla
 nd GmbH bei ausgewählten Kunden übertrifft alle Erwartungen. Bereits zu 
 den ersten drei Terminen kamen mehr als 500 Besucher\, um die Maschinen de
 r BLM GROUP bei Kollegenbetrieben im Praxiseinsatz zu sehen und sich über
  die innovativen Möglichkeiten der Rohrlaserschneide- und Rohrbiegemaschi
 nen sowie der zugehörigen Software zu informieren. Über den technischen 
 Erfahrungsaustausch hinaus hat die Veranstaltungsreihe für viele Besucher
  einen zusätzlichen langfristigen Nutzen: Im deutschsprachigen Raum wäch
 st ein Netzwerk heran\, innerhalb dessen Kunden der BLM GROUP mit untersch
 iedlicher maschinentechnischer Ausstattung bundesweit kooperieren.\\n\\n
DTSTAMP:20260422T235333Z
END:VEVENT
END:VCALENDAR