BEGIN:VCALENDAR
VERSION:2.0
PRODID:https://www.industryarena.com
METHOD:PUBLISH
X-APPLE-CALENDAR-COLOR:#00406f
X-OUTLOOK-COLOR:#00406f
X-FUNAMBOL-COLOR:#00406f
CALSCALE:GREGORIAN
X-MICROSOFT-CALSCALE:GREGORIAN
X-WR-CALNAME:IndustryArena GmbH
X-WR-CALDESC:Business Netzwerk der Fertigungsindustrie
BEGIN:VEVENT
UID:INDUSTRYARENAEVENT16992
DTSTART:20200512T000000Z
SEQUENCE:0
TRANSP:OPAQUE
LOCATION:Tübingen
SUMMARY:MLS - Verwalten von Arbeitsmitteln
CLASS:PUBLIC
DESCRIPTION:Webinar: MLS - Verwalten von Arbeitsmitteln\\n<br/><br/>\\nDie 
 Nachwuchsstiftung bietet Teilnehmerinnen und Teilnehmern der Ausbilderbera
 tung sowie Lehrerinnen und Lehrern an berufsbildenden Schulen dieses Webin
 ar mit dem Ziel an\, Funktionen und Möglichkeiten von MLS (Mobile Learnin
 g in Smart Factories) kennen zu lernen und die Bedienung zu vertiefen.
DTSTAMP:20260425T140151Z
END:VEVENT
END:VCALENDAR