BEGIN:VCALENDAR
VERSION:2.0
PRODID:https://www.industryarena.com
METHOD:PUBLISH
X-APPLE-CALENDAR-COLOR:#00406f
X-OUTLOOK-COLOR:#00406f
X-FUNAMBOL-COLOR:#00406f
CALSCALE:GREGORIAN
X-MICROSOFT-CALSCALE:GREGORIAN
X-WR-CALNAME:IndustryArena GmbH
X-WR-CALDESC:Business Netzwerk der Fertigungsindustrie
BEGIN:VEVENT
UID:INDUSTRYARENAEVENT18320
DTSTART:20220919T000000Z
SEQUENCE:0
TRANSP:OPAQUE
LOCATION:Ebersberg 
SUMMARY:Die digitale Instandhaltung
CLASS:PUBLIC
DESCRIPTION:In diesem Webinar wird gezeigt\, wie eine digitale Instandhaltu
 ng in eine MES-Umgebung integriert werden kann.
DTSTAMP:20260422T235224Z
END:VEVENT
END:VCALENDAR