BEGIN:VCALENDAR
VERSION:2.0
PRODID:https://www.industryarena.com
METHOD:PUBLISH
X-APPLE-CALENDAR-COLOR:#00406f
X-OUTLOOK-COLOR:#00406f
X-FUNAMBOL-COLOR:#00406f
CALSCALE:GREGORIAN
X-MICROSOFT-CALSCALE:GREGORIAN
X-WR-CALNAME:IndustryArena GmbH
X-WR-CALDESC:Business Netzwerk der Fertigungsindustrie
BEGIN:VEVENT
UID:INDUSTRYARENAEVENT18741
DTSTART:20230525T000000Z
SEQUENCE:0
TRANSP:OPAQUE
LOCATION:Wolfenbütte
SUMMARY:Vortrag: greenCNC - Wasser statt Öl
CLASS:PUBLIC
DESCRIPTION:Wir laden Sie ein zur Vorstellung der zukunftsweisenden Schmier
 stofftechnologie von öl-freien Kühlschmierstoffen des Unternehmens green
 CNC.\\n\\nVorteile:\\n- Einfaches Handling\\n- Frei von synthetischen und 
 Mineralölen\\n- Keine Emulgatoren notwendig\\n- Kostensenkung durch Reduz
 ierung der Rüst- und \\nReinigungszeiten\\n- Senkung der Entsorgungskoste
 n\\n- Umweltfreundlich\, enthält keine Lösungsmittel\\n- Verbessertes Ra
 umklima (kein Ölnebel)\\n\\nÜber die weiteren Eigenschaften und die Vort
 eile gegenüber konventionellen\, öl-haltigen Kühlschmierstoffen informi
 ert Sie der Referent\, der im Anschluss an seinen Vortrag für Fragen zur 
 Verfügung steht.\\n\\nWir bitten Sie um Anmeldung bis 22.05.2023 an Frau 
 Homeister (m.homeister@ostfalia.de ).\\n\\nDie Veranstaltung ist kostenfre
 i.
DTSTAMP:20260422T033848Z
END:VEVENT
END:VCALENDAR