BEGIN:VCALENDAR
VERSION:2.0
PRODID:https://www.industryarena.com
METHOD:PUBLISH
X-APPLE-CALENDAR-COLOR:#00406f
X-OUTLOOK-COLOR:#00406f
X-FUNAMBOL-COLOR:#00406f
CALSCALE:GREGORIAN
X-MICROSOFT-CALSCALE:GREGORIAN
X-WR-CALNAME:IndustryArena GmbH
X-WR-CALDESC:Business Netzwerk der Fertigungsindustrie
BEGIN:VEVENT
UID:INDUSTRYARENAEVENT20589
DTSTART:20240119T090000Z
SEQUENCE:0
TRANSP:OPAQUE
DTEND:20240123T170000Z
LOCATION:Bengaluru
SUMMARY:IMTEX FORMING 2024
CLASS:PUBLIC
DESCRIPTION:\"Embark on a journey into the future of manufacturing at #IMTE
 X2024!  \\nJoin us in Crafting Tomorrow’s Excellence Today! \\nImmerse y
 ourself in innovation and precision at our booth\, where the future unfold
 s. Don't miss the chance to experience our groundbreaking 
DTSTAMP:20260420T102355Z
END:VEVENT
END:VCALENDAR