BEGIN:VCALENDAR
VERSION:2.0
PRODID:https://www.industryarena.com
METHOD:PUBLISH
X-APPLE-CALENDAR-COLOR:#00406f
X-OUTLOOK-COLOR:#00406f
X-FUNAMBOL-COLOR:#00406f
CALSCALE:GREGORIAN
X-MICROSOFT-CALSCALE:GREGORIAN
X-WR-CALNAME:IndustryArena GmbH
X-WR-CALDESC:Business Netzwerk der Fertigungsindustrie
BEGIN:VEVENT
UID:INDUSTRYARENAEVENT21236
DTSTART:20240424T000000Z
SEQUENCE:0
TRANSP:OPAQUE
DTEND:20240425T000000Z
LOCATION:Renningen
SUMMARY:Sandvik Coromant Tech Days 2024
CLASS:PUBLIC
DESCRIPTION:Die Fertigung der Zukunft stellt uns vor spannende Herausforder
 ungen und bietet zugleich vielversprechende Chancen – von Automatisierun
 g über Digitalisierung bis hin zur Nachhaltigkeit. Gemeinsam können wir 
 diesen Wandel gestalten\, und dafür brauchen wir innovative Werkzeuge und
  intelligente Planungs-Tools. TechDays 2024 bieten eine einzigartige Geleg
 enheit\, führende Unternehmen der Fertigungsindustrie zusammenzubringen\,
  die aktiv an der Zukunft unserer Branche arbeiten. Erleben Sie zwei Tage 
 voller Live-Demos\, inspirierender Vorträge und anregender Diskussionen. 
 Die Experten von Sandvik Coromant sowie Virtual Gibbs als Partner der Tech
 Days freuen uns darauf\, gemeinsam mit Ihnen die Herausforderungen und Mö
 glichkeiten der Fertigung der Zukunft zu erkunden.
DTSTAMP:20260422T033936Z
END:VEVENT
END:VCALENDAR