BEGIN:VCALENDAR
VERSION:2.0
PRODID:https://www.industryarena.com
METHOD:PUBLISH
X-APPLE-CALENDAR-COLOR:#00406f
X-OUTLOOK-COLOR:#00406f
X-FUNAMBOL-COLOR:#00406f
CALSCALE:GREGORIAN
X-MICROSOFT-CALSCALE:GREGORIAN
X-WR-CALNAME:IndustryArena GmbH
X-WR-CALDESC:Business Netzwerk der Fertigungsindustrie
BEGIN:VEVENT
UID:INDUSTRYARENAEVENT21407
DTSTART:20251112T230000Z
SEQUENCE:0
TRANSP:OPAQUE
DTEND:20251114T000000Z
LOCATION:Laubach
SUMMARY:Planungs- & Produktionsablauf optimieren
CLASS:PUBLIC
DESCRIPTION:Aufbauseminar WS+ - Mit der richtigen Werkstück-Spanntechnik d
 en Planungs- und Produktionsablauf optimieren! Sie haben bereits das Basis
 seminar WS besucht und möchten Ihre Kenntnisse in diesem Bereich vertiefe
 n? Unter anderem sind Sie daran interessiert\, Lösungen und Hilfsmittel f
 ür das Spannen diffiziler Werkstücke kennenzulernen\, um mit dem gelernt
 en Wissen Ihren Planungs- und Produktionsablauf zu optimieren? Dann profit
 ieren Sie in diesem Seminar von unserem umfangreichen Fachwissen in der We
 rkstück-Spanntechnik. Ihr Nutzen • Sie erfahren\, wie es zu Verformunge
 n in der Werkstückspannung kommt und wie man diese auf ein Minimum reduzi
 eren kann. • Sie erhalten Einblick in das Spannen in Bohrungen und in we
 lchen Fällen diese Methode sinnvoll ist. • Sie verschaffen sich einen 
 Überblick über Positionierlösungen mit Spann- und Zentrierelementen zum
  schnellen\, präzisen Rüsten. • Sie lernen\, wie Sie mit den richtigen
  Steuerungselementen auf der Vorrichtung den Spannvorgang optimieren. • 
 Sie erfahren mehr über verschiedene Abfragemöglichkeiten der Spannelemen
 te und wie Sie Werkstücke prozesssicher spannen. • Sie lernen die Mögl
 ichkeiten kennen\, Standardspannsysteme mit Sonderspannbacken auszurüsten
 \, um so die Einsatzmöglichkeiten erheblich zu erweitern. • Sie erweite
 rn Ihr Wissen über die Direktspannung mit Nullpunkt Spannsystemen und erf
 ahren mehr über die Vorteile und Einsatzbereiche. Zielgruppe Konstrukteur
 e\, Techniker\, Planer\, Projektleiter und Meister aus den Bereichen Vorri
 chtungsbau\, Arbeitsvorbereitung und Fertigung. Empfehlung Teilnahme am Ba
 sisseminar WS.
DTSTAMP:20260422T033848Z
END:VEVENT
END:VCALENDAR