BEGIN:VCALENDAR
VERSION:2.0
PRODID:https://www.industryarena.com
METHOD:PUBLISH
X-APPLE-CALENDAR-COLOR:#00406f
X-OUTLOOK-COLOR:#00406f
X-FUNAMBOL-COLOR:#00406f
CALSCALE:GREGORIAN
X-MICROSOFT-CALSCALE:GREGORIAN
X-WR-CALNAME:IndustryArena GmbH
X-WR-CALDESC:Business Netzwerk der Fertigungsindustrie
BEGIN:VEVENT
UID:INDUSTRYARENAEVENT22925
DTSTART:20250331T220000Z
SEQUENCE:0
TRANSP:OPAQUE
DTEND:20250402T000000Z
LOCATION:Lauf a.d. Pegnitz
SUMMARY:EMUGE-FRANKEN Tech Days 2025
CLASS:PUBLIC
DESCRIPTION:Freuen Sie sich auf LIVE-VORFÜHRUNGEN\, WORKSHOPS  und BETRIEB
 SVORFÜHRUNGEN. Zu diesen Themen möchten wir mit Ihnen ins Gespräch komm
 en: Trochoidalfräser\, Formfräser\, universelle Werkzeuge\, Spezialwerkz
 euge\, Werkstückspannung\, Skiving-Verfahren\, Aluminium-Bearbeitung\, Fe
 rtigung mit MMS.
DTSTAMP:20260422T033848Z
END:VEVENT
END:VCALENDAR