BEGIN:VCALENDAR
VERSION:2.0
PRODID:https://www.industryarena.com
METHOD:PUBLISH
X-APPLE-CALENDAR-COLOR:#00406f
X-OUTLOOK-COLOR:#00406f
X-FUNAMBOL-COLOR:#00406f
CALSCALE:GREGORIAN
X-MICROSOFT-CALSCALE:GREGORIAN
X-WR-CALNAME:IndustryArena GmbH
X-WR-CALDESC:Business Netzwerk der Fertigungsindustrie
BEGIN:VEVENT
UID:INDUSTRYARENAEVENT22970
DTSTART:20250401T083000Z
SEQUENCE:0
TRANSP:OPAQUE
DTEND:20250403T130000Z
LOCATION:Cleveland
SUMMARY:PMTS - Precision Machining Technology Show 2025
CLASS:PUBLIC
DESCRIPTION:Die PMTS ist eine der wichtigsten internationalen Veranstaltung
  rund um die Präzisionsbearbeitung. Seien Sie dabei und diskutieren Sie a
 ktuelle Herausforderungen und spannende Insights. Erleben Sie neue technol
 ogische Lösungen sowie Prozessinnovationen – alles\, was Sie mitnehmen 
 und sofort in Ihrem eigenen Betrieb einsetzen können.
DTSTAMP:20260422T033849Z
END:VEVENT
END:VCALENDAR