BEGIN:VCALENDAR
VERSION:2.0
PRODID:https://www.industryarena.com
METHOD:PUBLISH
X-APPLE-CALENDAR-COLOR:#00406f
X-OUTLOOK-COLOR:#00406f
X-FUNAMBOL-COLOR:#00406f
CALSCALE:GREGORIAN
X-MICROSOFT-CALSCALE:GREGORIAN
X-WR-CALNAME:IndustryArena GmbH
X-WR-CALDESC:Business Netzwerk der Fertigungsindustrie
BEGIN:VEVENT
UID:INDUSTRYARENAEVENT23032
DTSTART:20250409T070000Z
SEQUENCE:0
TRANSP:OPAQUE
DTEND:20250411T150000Z
LOCATION:Villingen-Schwenningen
SUMMARY: DST Dreh- und Spantage Südwest 2025
CLASS:PUBLIC
DESCRIPTION:Die DST Südwest in Villingen-Schwenningen bedient im Zwei-Jahr
 es-Turnus Angebot und Nachfrage im Bereich Zerspanungstechnik mit Produkte
 n und Dienstleistungen. Hier können ausstellende Unternehmen und Institut
 ionen ihre Entwicklungen und Technologien präsentieren. Hier sind Fachbes
 ucherinnen und -besucher nach nur kurzer Anfahrt direkt im Markt mit dem g
 ebündelten Know-how der Branche.
DTSTAMP:20260422T033848Z
END:VEVENT
END:VCALENDAR