BEGIN:VCALENDAR
VERSION:2.0
PRODID:https://www.industryarena.com
METHOD:PUBLISH
X-APPLE-CALENDAR-COLOR:#00406f
X-OUTLOOK-COLOR:#00406f
X-FUNAMBOL-COLOR:#00406f
CALSCALE:GREGORIAN
X-MICROSOFT-CALSCALE:GREGORIAN
X-WR-CALNAME:IndustryArena GmbH
X-WR-CALDESC:Business Netzwerk der Fertigungsindustrie
BEGIN:VEVENT
UID:INDUSTRYARENAEVENT23484
DTSTART:20260202T230100Z
SEQUENCE:0
TRANSP:OPAQUE
DTEND:20260205T225900Z
LOCATION:Hamburg
SUMMARY:NORTEC 2026
CLASS:PUBLIC
DESCRIPTION:Auf der Nortec 2026 in der Hamburg Messe vom 03. bis 05. Februa
 r 2026 zeigen wir Ihnen\, wie Sie mit ARNO Werkzeuge Zeit sparen und Ihren
  Ertrag pro Zeitfenster maximieren. Fünf spannende Bereiche voller Innova
 tionen warten darauf\, Ihre Fertigung noch produktiver zu machen.
DTSTAMP:20260422T033850Z
END:VEVENT
END:VCALENDAR