BEGIN:VCALENDAR
VERSION:2.0
PRODID:https://www.industryarena.com
METHOD:PUBLISH
X-APPLE-CALENDAR-COLOR:#00406f
X-OUTLOOK-COLOR:#00406f
X-FUNAMBOL-COLOR:#00406f
CALSCALE:GREGORIAN
X-MICROSOFT-CALSCALE:GREGORIAN
X-WR-CALNAME:IndustryArena GmbH
X-WR-CALDESC:Business Netzwerk der Fertigungsindustrie
BEGIN:VEVENT
UID:INDUSTRYARENAEVENT23510
DTSTART:20260128T230000Z
SEQUENCE:0
TRANSP:OPAQUE
DTEND:20260129T000000Z
LOCATION:Salzkotten
SUMMARY:Connected Manufacturing - ohne Cloud 
CLASS:PUBLIC
DESCRIPTION:In Zeiten in denen die Datensicherheit und Qualität immer wich
 tiger wird\, haben wir Antworten auf häufig gestellte Fragen zu der Digit
 alisierung. \\n\\nWas unterscheidet uns? Unser Umgang mit Daten\, denn der
  macht sich in Ihrer ganzen Fertigung bemerkbar. \\n\\nWarum Werkzeuge im 
 CAM und in der Werkzeugverwaltung pflegen? Oder mit Schnittstellen? Das si
 nd unnötige Fehlerquellen in Zeiten wo die Datenqualität immer wichtiger
  wird. \\n\\nSie haben alte Maschinensteuerungen? Updates sind ein Thema?\
 \n\\nWir haben einen Weg gefunden\, auch alte Maschinen sicher in den Digi
 talisierungsprozess einzubinden. \\n\\nSie wollen Fertigungs Know-How spei
 chern? Weg von analogen\, hin zu digitalen Fertigungsinformationen? \\n\\n
 Mit unserer Lösung haben Sie an jedem Ort zu jeder Zeit aktuelle Fertigun
 gsinformationen. \\n\\nSie wollen Ihre Daten nicht in die Cloud speichern?
  Müssen Sie auch nicht! \\n\\nSie wollen keine RFID Chips kaufen? Dann ar
 beiten Sie doch mit Datamatrix Codes! \\n\\nLager digitalisieren und Suchz
 eiten einsparen? Sie haben viele verschiedene Lager?  Wir verbinden Indust
 rieschränke aller Hersteller\, Werkzeugwagen\, Liftsysteme\, Komponentens
 chränke mit Bestandsverwaltung - einfach alles. \\n\\nWir verschmelzen ge
 setzte Systeme mit unserer Lösung. Wie beispielsweise ERP Systeme. \\n\\n
 Sie wollen Vermessungsdaten unabhängig von Hersteller und Softwarestand z
 u Ihrer Maschine senden? \\n\\nWir senden Daten wie Korrekturwerte\, Stand
 zeiten\, Gewicht und Typ\, bidirektional an Ihre Maschinen.\\n\\nGehen wir
  gemeinsam Ihren Weg der Digitalisierung!\\n
DTSTAMP:20260422T033847Z
END:VEVENT
END:VCALENDAR