BEGIN:VCALENDAR
VERSION:2.0
PRODID:https://www.industryarena.com
METHOD:PUBLISH
X-APPLE-CALENDAR-COLOR:#00406f
X-OUTLOOK-COLOR:#00406f
X-FUNAMBOL-COLOR:#00406f
CALSCALE:GREGORIAN
X-MICROSOFT-CALSCALE:GREGORIAN
X-WR-CALNAME:IndustryArena GmbH
X-WR-CALDESC:Business Netzwerk der Fertigungsindustrie
BEGIN:VEVENT
UID:INDUSTRYARENAEVENT23512
DTSTART:20260309T230000Z
SEQUENCE:0
TRANSP:OPAQUE
DTEND:20260312T000000Z
LOCATION:Renningen
SUMMARY:TechDays 2026 - Sandvik Coromant
CLASS:PUBLIC
DESCRIPTION:Erleben Sie die Vorteile digitaler Durchgängigkeit vom Werkzeu
 g bis zur Werkzeugbahn auf den TechDays in Renningen (10.–12. März). Na
 ch unserer Integration mit CoroPlus Ende 2025 zeigen wir in Live-Demos\, w
 ie digitale Prozesse die Programmierzeit verkürzen und Fertigungsrisiken 
 eliminieren. Sichern Sie sich einen der limitierten Plätze.
DTSTAMP:20260420T102358Z
END:VEVENT
END:VCALENDAR