BEGIN:VCALENDAR
VERSION:2.0
PRODID:https://www.industryarena.com
METHOD:PUBLISH
X-APPLE-CALENDAR-COLOR:#00406f
X-OUTLOOK-COLOR:#00406f
X-FUNAMBOL-COLOR:#00406f
CALSCALE:GREGORIAN
X-MICROSOFT-CALSCALE:GREGORIAN
X-WR-CALNAME:IndustryArena GmbH
X-WR-CALDESC:Business Netzwerk der Fertigungsindustrie
BEGIN:VEVENT
UID:INDUSTRYARENAEVENT23554
DTSTART:20260421T120000Z
SEQUENCE:0
TRANSP:OPAQUE
LOCATION:Lübeck
SUMMARY:PPAP neu gedacht
CLASS:PUBLIC
DESCRIPTION:In diesem Webinar zeigen wir\, wie sich PPAP\, Zeichnungen und 
 Merkmale effizient und durchgängig in einer integrierten Plattform manage
 n lassen. Erfahren Sie\, wie typische Herausforderungen im PPAP-Prozess ü
 berwunden und Medienbrüche vermieden werden können – praxisnah erläut
 ert und anhand konkreter Live-Demos veranschaulicht.\\n\\n- Ausgangssituat
 ion: PPAP\, Zeichnungen und Merkmale managen:\\nTypische Herausforderungen
  im PPAP-Prozess\;\\nMedienbrüche zwischen Zeichnungen\, Prüfplänen und
  Dokumentation\\n- Wie kann die PeakAvenue-Plattform hier unterstützen?\\
 n- Live-Demo: Die Zeichnungsintegration im Detail:\\nModelle importieren u
 nd verwalten\;\\nAutomatisierte Merkmalsextraktion und Versionierung\;\\nD
 urchgängige Dokumentation und Rückverfolgbarkeit (Änderungsabgleich)\\n
 - Live-Demo: PPAP & Zeichnungsintegration im Einsatz:\\nAnlage eines PPAP-
 Projekts\;\\nIntegration und Bearbeitung von Zeichnungen\;\\nGenerierung r
 elevanter PPAP-Dokumente
DTSTAMP:20260422T235224Z
END:VEVENT
END:VCALENDAR