BEGIN:VCALENDAR
VERSION:2.0
PRODID:https://www.industryarena.com
METHOD:PUBLISH
X-APPLE-CALENDAR-COLOR:#00406f
X-OUTLOOK-COLOR:#00406f
X-FUNAMBOL-COLOR:#00406f
CALSCALE:GREGORIAN
X-MICROSOFT-CALSCALE:GREGORIAN
X-WR-CALNAME:IndustryArena GmbH
X-WR-CALDESC:Business Netzwerk der Fertigungsindustrie
BEGIN:VEVENT
UID:INDUSTRYARENAEVENT23555
DTSTART:20260422T070000Z
SEQUENCE:0
TRANSP:OPAQUE
LOCATION:Lübeck
SUMMARY:Fault Tree Analysis mit PeakAvenue FTA
CLASS:PUBLIC
DESCRIPTION:Ohne eine zentrale Fehlerbaumanalyse-Software riskieren Sie\, k
 ritische Systemfehler zu übersehen\, komplexe Zusammenhänge nicht vollst
 ändig zu durchdringen und unnötige Risiken einzugehen.\\n\\nMit PeakAven
 ue FTA identifizieren Sie Systemausfälle\, bevor sie passieren\, und beha
 lten selbst komplexe Systeme jederzeit im Blick. In diesem Webinar zeigen 
 wir Ihnen anhand eines kleinen\, allgemeinen Beispiels\, wie Sie mit PeakA
 venue FTA effizient Fehlerbäume modellieren und analysieren können. Sie 
 erhalten einen Überblick über zentrale Funktionen und Workflows.
DTSTAMP:20260422T235339Z
END:VEVENT
END:VCALENDAR