BEGIN:VCALENDAR
VERSION:2.0
PRODID:https://www.industryarena.com
METHOD:PUBLISH
X-APPLE-CALENDAR-COLOR:#00406f
X-OUTLOOK-COLOR:#00406f
X-FUNAMBOL-COLOR:#00406f
CALSCALE:GREGORIAN
X-MICROSOFT-CALSCALE:GREGORIAN
X-WR-CALNAME:IndustryArena GmbH
X-WR-CALDESC:Business Netzwerk der Fertigungsindustrie
BEGIN:VEVENT
UID:INDUSTRYARENAEVENT23556
DTSTART:20260422T090000Z
SEQUENCE:0
TRANSP:OPAQUE
LOCATION:Lübeck
SUMMARY:Transparentes Dokumentenmanagement
CLASS:PUBLIC
DESCRIPTION:Ein leistungsfähiges Unternehmen lebt von einer klar strukturi
 erten\, normengerechten und zugleich praxisnahen Dokumentenlenkung. Dokume
 nte sind dabei weit mehr als formale Vorgaben oder reine Nachweise – sie
  schaffen Transparenz\, sichern Nachvollziehbarkeit und bilden die Basis f
 ür kontinuierliche Verbesserung.\\n\\nIn diesem Webinar erfahren Sie\, wi
 e sie mithilfe einer cloudbasierten DMS-Software Ihre Dokumente vom Entwur
 f bis zur Archivierung unter Kontrolle behalten\, über alle Prozesse hinw
 eg normenkonform arbeiten und dabei gleichzeitig den administrativen Aufwa
 nd im Qualitätsmanagement für die Dokumentenlenkung reduzieren.
DTSTAMP:20260422T235354Z
END:VEVENT
END:VCALENDAR