BEGIN:VCALENDAR
VERSION:2.0
PRODID:https://www.industryarena.com
METHOD:PUBLISH
X-APPLE-CALENDAR-COLOR:#00406f
X-OUTLOOK-COLOR:#00406f
X-FUNAMBOL-COLOR:#00406f
CALSCALE:GREGORIAN
X-MICROSOFT-CALSCALE:GREGORIAN
X-WR-CALNAME:IndustryArena GmbH
X-WR-CALDESC:Business Netzwerk der Fertigungsindustrie
BEGIN:VEVENT
UID:INDUSTRYARENAEVENT23576
DTSTART:20260323T230000Z
SEQUENCE:0
TRANSP:OPAQUE
DTEND:20260324T225900Z
LOCATION:Nürnberg
SUMMARY:HOLZ-HANDWERK 2026
CLASS:PUBLIC
DESCRIPTION:Die Holzverarbeitungsbranche trifft sich 2026 in Nürnberg | En
 tdecken. Erleben. Machen.\\nDie Bearbeitung und Verarbeitung des lebendige
 n Werkstoffes Holz steht im Mittelpunkt der HOLZ-HANDWERK 2026 in Nürnber
 g\, der Europäischen Fachmesse für Maschinentechnologie und Fertigungsbe
 darf. Das breite Angebotsspektrum zeigt die neuesten Trends und Innovation
 en der Holzverarbeitungsbranche\, von der Säge- und Schleifmaschine bis h
 in zur Holzbearbeitungsmaschine oder Absauganlage. Die HOLZ-HANDWERK ist d
 amit eine der wichtigsten Veranstaltungen rund um die Themen Holzbearbeitu
 ng & Holzverarbeitung für Schreiner\, Tischler und Zimmerer im europäisc
 hen Bereich.\\n\\nÜber 110.000 Besucher und 1.329 Aussteller aus 42 Länd
 ern machten die HOLZ-HANDWERK im Verbund mit der FENSTERBAU FRONTALE auch 
 2018 zu einem beeindruckenden Branchenhighlight.\\n
DTSTAMP:20260422T033847Z
END:VEVENT
END:VCALENDAR