BEGIN:VCALENDAR
VERSION:2.0
PRODID:https://www.industryarena.com
METHOD:PUBLISH
X-APPLE-CALENDAR-COLOR:#00406f
X-OUTLOOK-COLOR:#00406f
X-FUNAMBOL-COLOR:#00406f
CALSCALE:GREGORIAN
X-MICROSOFT-CALSCALE:GREGORIAN
X-WR-CALNAME:IndustryArena GmbH
X-WR-CALDESC:Business Netzwerk der Fertigungsindustrie
BEGIN:VEVENT
UID:INDUSTRYARENAEVENT23579
DTSTART:20260428T120000Z
SEQUENCE:0
TRANSP:OPAQUE
LOCATION:Krefeld
SUMMARY:Automatisierte Palettenbeladung im FFS
CLASS:PUBLIC
DESCRIPTION:Lights-out-Phasen im FFS lassen sich in der Praxis oft nur begr
 enzt ausdehnen.\\n\\nNicht\, weil die Maschine nicht läuft\, sondern weil
  vorbereitete Paletten\, Spannmittel und verfügbarer Speicher zum Engpass
  werden.\\n\\nWer zusätzliche Laufzeit über Nacht oder am Wochenende ers
 chließen möchte\, steht schnell vor der Frage:\\nMehr Spannmittel anscha
 ffen oder das System erweitern?\\n\\nGerade Spannvorrichtungen sind ein we
 sentlicher Kostenfaktor und müssen im System in ausreichender Anzahl verf
 ügbar sein.\\n\\nGenau hier setzt die automatisierte Palettenbeladung an.
 \\n\\nIn diesem Webinar zeigt unser Spezialist Klaus Labusch\, wie sich Li
 ghts-out-Phasen gezielt erweitern lassen\, ohne das System überproportion
 al auszubauen.\\n\\nSie sehen unter anderem:\\n\\nwie Spannvorrichtungen a
 uf Maschinenpaletten automatisiert be- und entladen werden\\nwie Rohteile 
 zugeführt und Fertigteile ausgeschleust werden\\nwie sich der Bedarf an S
 pannmitteln deutlich reduzieren lässt\\nwie vorhandener Speicher effizien
 t genutzt wird\\n\\nDas Ergebnis:\\nLängere Lights-out-Phasen bei geringe
 rem Invest in Spannmittel und Systemgröße.\\n\\nFür alle\, die aus ihre
 m FFS mehr Laufzeit herausholen möchten.
DTSTAMP:20260421T171033Z
END:VEVENT
END:VCALENDAR