BEGIN:VCALENDAR
VERSION:2.0
PRODID:https://www.industryarena.com
METHOD:PUBLISH
X-APPLE-CALENDAR-COLOR:#00406f
X-OUTLOOK-COLOR:#00406f
X-FUNAMBOL-COLOR:#00406f
CALSCALE:GREGORIAN
X-MICROSOFT-CALSCALE:GREGORIAN
X-WR-CALNAME:IndustryArena GmbH
X-WR-CALDESC:Business Netzwerk der Fertigungsindustrie
BEGIN:VEVENT
UID:INDUSTRYARENAEVENT23589
DTSTART:20260421T220000Z
SEQUENCE:0
TRANSP:OPAQUE
DTEND:20260423T000000Z
LOCATION:Meppen
SUMMARY:Hedelius Hausmese - Tebis ist dabei! 
CLASS:PUBLIC
DESCRIPTION:Schon gewußt? Tebis ist 360-Grad-Lösungsanbieter für intelli
 gente und automatisierte Prozesslösungen. Bei uns dreht sich alles um eff
 iziente Prozesse\, Digitalisierung und Automation für eine zukunftsfähig
 e Fertigung.\\n\\nTrefft uns am Stand - hier gehts zur kostenfreien Anmeld
 ung: \\nhttps://lnkd.in/dcs797S2\\n\\nNeben vielen Ausstellungs- Highlight
 s erfahrt ihr dort auch mehr über unsere revolutionäre SmartOps-Technolo
 gie\, die für maximale Flexibilität bei höchster Prozesssicherheit sorg
 t. Aktuell sind wir mit diesem Lösungsansatz übrigens vom Rat für Formg
 ebung - German Design Councilf für den German Innovation Award nominiert!
 \\n\\n? Wer mehr über unseren Ansatz der Prozesssicherheit als Grundlage 
 der Automation erfahren möchte\, sollte unseren Fachvortrag nicht verpass
 en: „Wenn Prozesse sicher sind\, wird Automation stark“ (22.04.13.45)\
 \n
DTSTAMP:20260422T032730Z
END:VEVENT
END:VCALENDAR