BEGIN:VCALENDAR
VERSION:2.0
PRODID:https://www.industryarena.com
METHOD:PUBLISH
X-APPLE-CALENDAR-COLOR:#00406f
X-OUTLOOK-COLOR:#00406f
X-FUNAMBOL-COLOR:#00406f
CALSCALE:GREGORIAN
X-MICROSOFT-CALSCALE:GREGORIAN
X-WR-CALNAME:IndustryArena GmbH
X-WR-CALDESC:Business Netzwerk der Fertigungsindustrie
BEGIN:VEVENT
UID:INDUSTRYARENAEVENT23594
DTSTART:20261116T230100Z
SEQUENCE:0
TRANSP:OPAQUE
DTEND:20261117T225900Z
LOCATION:Frankfurt am Main
SUMMARY:formnext 2026
CLASS:PUBLIC
DESCRIPTION:Lassen Sie sich in die Welt der Spann- und Vorrichtungssysteme 
 entführen und lernen Sie spezielle Produkte aus allen Bereichen der AMF-S
 panntechnik kennen\, wie z.B. Nullpunktspannsysteme\, Hydraulik\, Magnetsp
 annsysteme\, Vakuumspannsysteme uvm.
DTSTAMP:20260422T032730Z
END:VEVENT
END:VCALENDAR